BEGIN:VCALENDAR
VERSION:2.0
PRODID:-//https://pferdezucht-rheinland.de///NONSGML kigkonsult.se iCalcreator 2.10.15//
METHOD:PUBLISH
BEGIN:VEVENT
UID:20260424T212351UTC-5700hJtx5c@https://pferdezucht-rheinland.de/
DTSTAMP:20260424T212351Z
DESCRIPTION:Am 02.06.2026 können alle Züchter\, die an einer Vermarktung üb
 er eine unserer diesjährigen Auktionen interessiert sind\, ihre vielverspr
 echenden Fohlen zeigen. An diesem Termin werden gleich professionelle Foto
 s und Videos für alle Werbe- und Vermarktungszwecke vor Ort angefertigt. 
 \n \nBei Fragen melden Sie sich gerne in der Geschäftsstelle oder bei Yann
 ick Pferdmenges!\nAnmeldeformular Foto- und Videotermin https://pferdezuch
 t-rheinland.de/termine-veranstaltungen/event/652-foto-und-videotermin-für-
 fohlen-für-die-auktionen.html
DTSTART;VALUE=DATE:20260602
LOCATION:Wickrath (Schloss Wickrath 7\, 41189 Mönchengladbach)
SUMMARY:Foto und Videotermin für Fohlen für die Auktionen
URL:https://pferdezucht-rheinland.de/termine-veranstaltungen/event/652-foto
 -und-videotermin-für-fohlen-für-die-auktionen.html
END:VEVENT
END:VCALENDAR
