BEGIN:VCALENDAR
VERSION:2.0
PRODID:-//https://pferdezucht-rheinland.de///NONSGML kigkonsult.se iCalcreator 2.10.15//
METHOD:PUBLISH
BEGIN:VEVENT
UID:20260419T203824UTC-8786uC9Mbk@https://pferdezucht-rheinland.de/
DTSTAMP:20260419T203824Z
DESCRIPTION:Hier geht es zum Anmeldeforumlar für die Vorauswahl mit Foto- &
  Videotermin am 15.12.23 -> Klick https://pferdezucht-rheinland.de/termine
 -veranstaltungen/event/499-schloss-wickrath-youngster-auktion-online-editi
 on.html
DTSTART:20240201T110000Z
DTEND:20240204T173000Z
LOCATION:Online (Online)
SUMMARY:Schloss Wickrath Youngster Auktion - Online Edition
URL:https://pferdezucht-rheinland.de/termine-veranstaltungen/event/499-schl
 oss-wickrath-youngster-auktion-online-edition.html
END:VEVENT
END:VCALENDAR
