BEGIN:VCALENDAR
VERSION:2.0
PRODID:-//https://pferdezucht-rheinland.de///NONSGML kigkonsult.se iCalcreator 2.10.15//
METHOD:PUBLISH
BEGIN:VEVENT
UID:20260424T194922UTC-2046Wtmvru@https://pferdezucht-rheinland.de/
DTSTAMP:20260424T194922Z
DESCRIPTION: https://pferdezucht-rheinland.de/termine-veranstaltungen/event
 /478-mitgliederversammlung-kreispferdezuchtverein-kreis-euskirchen.html
DTSTART:20230323T180000Z
DTEND:20230323T200000Z
LOCATION:Bastei der Reitanlage auf dem Rittergut Schick (Firmenicher Str. 1
 a\, 53909 Zülpich OT Enzen)
SUMMARY:Mitgliederversammlung Kreispferdezuchtverein Kreis Euskirchen
URL:https://pferdezucht-rheinland.de/termine-veranstaltungen/event/478-mitg
 liederversammlung-kreispferdezuchtverein-kreis-euskirchen.html
END:VEVENT
END:VCALENDAR
