BEGIN:VCALENDAR
VERSION:2.0
PRODID:-//https://pferdezucht-rheinland.de///NONSGML kigkonsult.se iCalcreator 2.10.15//
METHOD:PUBLISH
BEGIN:VEVENT
UID:20260419T142836UTC-1208uU3cpc@https://pferdezucht-rheinland.de/
DTSTAMP:20260419T142836Z
DESCRIPTION:EINLADUNG https://pferdezucht-rheinland.de/termine-veranstaltun
 gen/event/575-mitgliederversammlung-kreispferdezuchtverein-kreis-viersen.h
 tml
DTSTART:20250320T180000Z
DTEND:20250320T210000Z
LOCATION:folgt (folgt)
SUMMARY:Mitgliederversammlung Kreispferdezuchtverein Kreis Viersen
URL:https://pferdezucht-rheinland.de/termine-veranstaltungen/event/575-mitg
 liederversammlung-kreispferdezuchtverein-kreis-viersen.html
END:VEVENT
END:VCALENDAR
