BEGIN:VCALENDAR
VERSION:2.0
PRODID:-//https://pferdezucht-rheinland.de///NONSGML kigkonsult.se iCalcreator 2.10.15//
METHOD:PUBLISH
BEGIN:VEVENT
UID:20260424T115453UTC-4417v9fcui@https://pferdezucht-rheinland.de/
DTSTAMP:20260424T115453Z
DESCRIPTION: https://pferdezucht-rheinland.de/termine-veranstaltungen/event
 /235-schloss-wickrath-dressage.html
DTSTART:20230317T070000Z
DTEND:20230319T190000Z
LOCATION:Wickrath (Schloss Wickrath 7\, 41189 Mönchengladbach)
SUMMARY:Schloss Wickrath Dressage
URL:https://pferdezucht-rheinland.de/termine-veranstaltungen/event/235-schl
 oss-wickrath-dressage.html
END:VEVENT
END:VCALENDAR
