BEGIN:VCALENDAR
VERSION:2.0
PRODID:-//https://pferdezucht-rheinland.de///NONSGML kigkonsult.se iCalcreator 2.10.15//
METHOD:PUBLISH
BEGIN:VEVENT
UID:20260424T050348UTC-3019koau2l@https://pferdezucht-rheinland.de/
DTSTAMP:20260424T050348Z
DESCRIPTION:http://www.kpzv-neuss-erft.de/aktuelles-2023/ https://pferdezuc
 ht-rheinland.de/termine-veranstaltungen/event/481-mitgliederversammlung-kr
 eispferdezuchtverein-rhein-kreis-neuss\,-rhein-erft-kreis\,-der-städte-mön
 chengladbach-köln-e-v.html
DTSTART:20230314T190000Z
DTEND:20230314T210000Z
LOCATION:Restaurant Syrtaki\, Korschenbroich (Liedberger Str. 40\,41352 Kor
 schenbroich)
SUMMARY:Mitgliederversammlung Kreispferdezuchtverein Rhein-Kreis Neuss\, Rh
 ein-Erft Kreis\, der Städte Mönchengladbach & Köln e.V.
URL:https://pferdezucht-rheinland.de/termine-veranstaltungen/event/481-mitg
 liederversammlung-kreispferdezuchtverein-rhein-kreis-neuss,-rhein-erft-kre
 is,-der-städte-mönchengladbach-köln-e-v.html
END:VEVENT
END:VCALENDAR
