BEGIN:VCALENDAR
VERSION:2.0
PRODID:-//https://pferdezucht-rheinland.de///NONSGML kigkonsult.se iCalcreator 2.10.15//
METHOD:PUBLISH
BEGIN:VEVENT
UID:20260424T050410UTC-4228IjkBi0@https://pferdezucht-rheinland.de/
DTSTAMP:20260424T050410Z
DESCRIPTION: https://pferdezucht-rheinland.de/termine-veranstaltungen/event
 /482-mitgliederversammlung-bezirksverband-nrw-im-hannoveraner-verband-e-v.
 html
DTSTART:20230313T180000Z
DTEND:20230313T200000Z
LOCATION:Reithalle Pferdezentrum Schloss Wickrath (Schoss Wickrath\, 41189 
 Mönchengladbach)
SUMMARY:Mitgliederversammlung Bezirksverband NRW im Hannoveraner Verband e.
 V.
URL:https://pferdezucht-rheinland.de/termine-veranstaltungen/event/482-mitg
 liederversammlung-bezirksverband-nrw-im-hannoveraner-verband-e-v.html
END:VEVENT
END:VCALENDAR
