BEGIN:VCALENDAR
VERSION:2.0
PRODID:-//https://pferdezucht-rheinland.de///NONSGML kigkonsult.se iCalcreator 2.10.15//
METHOD:PUBLISH
BEGIN:VEVENT
UID:20260425T010232UTC-7293PSXsDw@https://pferdezucht-rheinland.de/
DTSTAMP:20260425T010232Z
DESCRIPTION:\nWir freuen uns auf einen fulminanten Jahresauftakt mit hochka
 rätigen Dressur- und Springbetonten Warmblut- und Ponyhengsten.Freitag\, 2
 1.02.202518.30 UhrLIVE vor Ort und über Clipmyhorse.\nTickets sind ab sofo
 rt online zu buchen -> Klick\n https://pferdezucht-rheinland.de/termine-ve
 ranstaltungen/event/565-schloss-wickrath-stallions-hengstschau-2025.html
DTSTART:20250221T173000Z
DTEND:20250221T210000Z
LOCATION: ()
SUMMARY:Schloss Wickrath Stallions - Hengstschau 2025
URL:https://pferdezucht-rheinland.de/termine-veranstaltungen/event/565-schl
 oss-wickrath-stallions-hengstschau-2025.html
END:VEVENT
END:VCALENDAR
